BEGIN:VCALENDAR
VERSION:2.0
PRODID:-//LULAC Council 4971 - ECPv6.15.20//NONSGML v1.0//EN
CALSCALE:GREGORIAN
METHOD:PUBLISH
X-ORIGINAL-URL:https://lulaccouncil4971.org
X-WR-CALDESC:Events for LULAC Council 4971
REFRESH-INTERVAL;VALUE=DURATION:PT1H
X-Robots-Tag:noindex
X-PUBLISHED-TTL:PT1H
BEGIN:VTIMEZONE
TZID:UTC
BEGIN:STANDARD
TZOFFSETFROM:+0000
TZOFFSETTO:+0000
TZNAME:UTC
DTSTART:20240101T000000
END:STANDARD
END:VTIMEZONE
BEGIN:VEVENT
DTSTART;TZID=UTC:20250503T110000
DTEND;TZID=UTC:20250503T160000
DTSTAMP:20260421T121517
CREATED:20250414T143616Z
LAST-MODIFIED:20250414T144628Z
UID:2054-1746270000-1746288000@lulaccouncil4971.org
SUMMARY:CENTEX SALSA & HOT SAUCE FESTIVAL
DESCRIPTION:Brought to you by Lulac Council 4971\, Chef Flaco’s Gourmet Foods. Wicked Provisions and Sovy Realty Group! \n\n\n\n\n\n\nA family fun extravaganza!\n\n\n\nSalsa contest open to the public\n\n\n\nNo entry fee — totally free!\n\n\n\nAmazing local vendors\n\n\n\nFestive music\n\n\n\nScrumptious food trucks on-site\n\n\n\nAward-winning salsas\, queso\, and fiery hot sauces\n\n\n\nKids’ playground paradise\n\n\n\nTry your luck in the 50/50 raffle\n\n\n\nChihuahua costume showdown — open to the public!
URL:https://lulaccouncil4971.org/event/centex-salsa/
LOCATION:Whistlestop Park\, 58 S 11th St\, Temple\, TX\, Whistlestop Park\, 58 S\, Texas\, United States
ATTACH;FMTTYPE=image/png:https://lulaccouncil4971.org/wp-content/uploads/2025/04/Festival-poster-2025-NEW.png
END:VEVENT
BEGIN:VEVENT
DTSTART;TZID=UTC:20250503T110000
DTEND;TZID=UTC:20250503T160000
DTSTAMP:20260421T121517
CREATED:20250414T145712Z
LAST-MODIFIED:20250414T151856Z
UID:2064-1746270000-1746288000@lulaccouncil4971.org
SUMMARY:Chihuahua Contest
DESCRIPTION:Get ready for a fabulous time! Whether your Chihuahua is fancy\, wild\, or funky\, this contest is the perfect opportunity for them to strut their stuff. Winners will not only walk away with prizes but also a shiny trophy! \n\n\n\nWe’ll be judging our awesome entrants on creativity and uniqueness. Plus\, there’sa special prize for the bestMexican costume that truly celebrates our Chihuahua’s wonderful heritage. \n\n\n\nHere are a few friendly rules to keep in mind: \n\n\n\n\nPlease keep all dogs on a leash or carry them. (We want to ensure everyone has a great time\, so unruly dogs or owners might have to leave.)\n\n\n\nWe kindly ask dog owners to clean up after their furry friends.\n\n\n\nThe LULAC Council #4971 may use photos of you and your adorable Chihuahuas for future advertising. (We hope you don’t mind!)\n\n\n\nOur judges are wonderful community volunteers\, and their decisions are final.
URL:https://lulaccouncil4971.org/event/chihuahua-contest/
LOCATION:Whistlestop Park\, 58 S 11th St\, Temple\, TX\, Whistlestop Park\, 58 S\, Texas\, United States
ATTACH;FMTTYPE=application/pdf:https://lulaccouncil4971.org/wp-content/uploads/2025/04/Blue-Retro-Pet-Photo-Contest-A5-2.pdf
END:VEVENT
BEGIN:VEVENT
DTSTART;TZID=UTC:20260502T100000
DTEND;TZID=UTC:20260502T170000
DTSTAMP:20260421T121517
CREATED:20260318T022351Z
LAST-MODIFIED:20260326T174450Z
UID:2346-1777716000-1777741200@lulaccouncil4971.org
SUMMARY:Centex Salsa & Hot Sauce Festival
DESCRIPTION:This annual Temple event benefits the League of United Latin American Citizens (LULAC) Council 4971\, which raises funds for local student scholarships. The festival is proudly hosted by Chef Flaco’s Gourmet Foods in partnership with LULAC Council 4971.  \n\n\n\nWhat to Expect:• Salsa contest open to the public• Amazing local vendors• Live music• Food trucks• Kids activities \n\n\n\nVendor Information:• Booth and food truck options available• Limited spots – early registration recommended \n\n\n\nVendor Fees:• $50 – 10×10 Booth• $100 – Food Truck \n\n\n\nFor more details register using the buttons below. \n\n\n\n\n\n\n\n\n\n\n\n\nENTER SALSA CONTEST\n\n\n\nVENDOR REGISTRATION
URL:https://lulaccouncil4971.org/event/centex-salsa-hot-sauce-festival/
LOCATION:Whistlestop Park\, 58 S 11th St\, Temple\, TX\, Whistlestop Park\, 58 S\, Texas\, United States
ATTACH;FMTTYPE=image/png:https://lulaccouncil4971.org/wp-content/uploads/2026/03/Festival-flyer-2026_20260326_113044_0000.png
END:VEVENT
BEGIN:VEVENT
DTSTART;TZID=UTC:20260502T133000
DTEND;TZID=UTC:20260502T133000
DTSTAMP:20260421T121517
CREATED:20260317T222346Z
LAST-MODIFIED:20260415T145219Z
UID:2321-1777728600-1777728600@lulaccouncil4971.org
SUMMARY:LULAC 4971 Chihuahua Contest 2026
DESCRIPTION:Join us for our exciting Best Dressed Chihuahua Contest! Bring your Chihuahua dressed in creative and festive outfits and compete for fun prizes. Event Date: May 2\, 2026\, Check in time – 1:00 PM\, Contest beings at 1:30 PMEntry Fee: $25 🐾 All Chihuahuas are welcome to participate. Entry Fee must be submitted on or before April 27\, 2026; All proceeds support local scholarships and educational programs. \n\n\n\n\n\n \n\n\n\n\n\n\n\n\n\n\n\nContest Guidelines\n\n\n\nEligibility \n\n\n\n• All Chihuahuas\, regardless of age or size\, are welcome to participate in the contest. \n\n\n\n• Each Chihuahua must be accompanied by their owner or handler throughout the event. \n\n\n\n• Only purebred Chihuahuas are eligible to enter the competition. \n\n\n\nRegistration \n\n\n\n• All participants must complete an application form before the event begins. \n\n\n\n• A registration fee of $25 is required and must be paid in advance. \n\n\n\nCostume Requirements \n\n\n\n• Costumes must be safe\, comfortable\, and suitable for the dog. \n\n\n\n• Costumes must not contain sharp objects\, toxic materials\, or anything that could potentially harm the pet. \n\n\n\n• Outfits should allow the dog to move freely and must not restrict breathing or vision. \n\n\n\nBehavior \n\n\n\n• All dogs must remain on a leash or in a carrier at all times during the event. \n\n\n\n• Aggressive or disruptive behavior will result in disqualification from the contest. \n\n\n\n• Owners are responsible for ensuring their pet’s safety and proper conduct. \n\n\n\nJudging Criteria \n\n\n\n• Creativity and originality of the costume\, especially in representing Mexico\, will be considered. \n\n\n\n• The overall presentation and theme will be evaluated. \n\n\n\n• Judges will assess how well the costume fits the dog. \n\n\n\n• Interaction between the dog and the audience or judges is part of the scoring. \n\n\n\n• Best singer will also be recognized. \n\n\n\nOwner Responsibilities \n\n\n\n• Owners must supervise their pets at all times during the contest. \n\n\n\n• Owners are required to clean up after their pets. \n\n\n\n• Pets must be healthy and current on their vaccinations. \n\n\n\n• Owners must agree to photography and video recording throughout the event. \n\n\n\n• A signed waiver releasing the organizers from liability is required. \n\n\n\n\nRegister Your Chihuahua
URL:https://lulaccouncil4971.org/event/lulac-4971-chihuahua-contest-2026/
LOCATION:Whistlestop Park\, 58 S 11th St\, Temple\, TX\, Whistlestop Park\, 58 S\, Texas\, United States
ATTACH;FMTTYPE=image/png:https://lulaccouncil4971.org/wp-content/uploads/2026/03/chihuahua-Contest-1.png
END:VEVENT
BEGIN:VEVENT
DTSTART;TZID=UTC:20260502T150000
DTEND;TZID=UTC:20260502T150000
DTSTAMP:20260421T121517
CREATED:20260316T220034Z
LAST-MODIFIED:20260415T144022Z
UID:2217-1777734000-1777734000@lulaccouncil4971.org
SUMMARY:Selena Look-ALike Contest
DESCRIPTION:Join LULAC Council 4971 for our highly anticipated Selena Look-A-Like Contest! We are looking for fans to channel the “Queen of Tejano” through style\, charisma\, and stage presence. Check in at 3:00 PM\, contest beings at 3:30 PM. Entry Fee must be submitted before April 27\, 2026; All proceeds support local scholarships and educational programs. \n\n\n\n\n\n\n\n\n\nEligibility: Ages 9+. \n\n\n\nRegistration Deadline: April 27\, 2026. \n\n\n\nPerformance: 3 minute stage limit for runway walks\, posing\, or optional lip-syncing. \n\n\n\n\n\n\n\n\n\n\n\n\n\nContest Guidelines\n\n\n\nEligibility and Entry Information \n\n\n\n1. Eligibility: Participants must be 9 years and older. The contest is divided into two groups: Group 1 (ages 9-15) and Group 2 (ages 16 and above). \n\n\n\n3. Application Details: Participants must complete the application form and submit the entry fee by April 27\, 2026 \n\n\n\nRequired Participant Information \n\n\n\n• Participant’s full name and age \n\n\n\n• Parent or guardian’s information\, including name\, address\, and phone number \n\n\n\n• Emergency contact information \n\n\n\nMedia and Promotion Agreement \n\n\n\n• By entering the contest\, participants agree to be photographed and recorded. \n\n\n\n• The festival may use photos and videos captured during the event for promotional purposes. \n\n\n\nCostume Guidelines and Judging Criteria \n\n\n\n1. Outfit: Contestants may wear any of Selena’s iconic outfits or signature hairstyles\, or they may design an outfit inspired by Selena’s style. All outfits must be family-friendly and allow for safe movement. \n\n\n\n2. Judging Criteria: \n\n\n\nPhysical resemblance — Judges will evaluate facial features\, hair\, and the overall look. \n\n\n\n Styling accuracy — Consideration will be given to the accuracy of the outfit\, makeup\, and accessories. \n\n\n\nStage presence — Participants will be assessed on their confidence\, charisma\, and ability to connect with the crowd. \n\n\n\nStage Performance Requirements \n\n\n\n• Each contestant is allotted 3 minutes on stage. \n\n\n\nAllowed Activities: \n\n\n\n• Runway walk \n\n\n\n• Posing \n\n\n\n• Light choreography \n\n\n\n• Optional Lip – syncing  \n\n\n\n\nEnter the Contest Now
URL:https://lulaccouncil4971.org/event/selena-look-alike-contest/
LOCATION:Texas
ATTACH;FMTTYPE=image/png:https://lulaccouncil4971.org/wp-content/uploads/2026/03/Add-a-subheading.png
END:VEVENT
END:VCALENDAR